BEGIN:VCALENDAR
VERSION:2.0
PRODID:-//ReadyAI - ECPv6.0.10//NONSGML v1.0//EN
CALSCALE:GREGORIAN
METHOD:PUBLISH
X-WR-CALNAME:ReadyAI
X-ORIGINAL-URL:https://www.readyai.org
X-WR-CALDESC:Events for ReadyAI
REFRESH-INTERVAL;VALUE=DURATION:PT1H
X-Robots-Tag:noindex
X-PUBLISHED-TTL:PT1H
BEGIN:VTIMEZONE
TZID:America/New_York
BEGIN:DAYLIGHT
TZOFFSETFROM:-0500
TZOFFSETTO:-0400
TZNAME:EDT
DTSTART:20190310T070000
END:DAYLIGHT
BEGIN:STANDARD
TZOFFSETFROM:-0400
TZOFFSETTO:-0500
TZNAME:EST
DTSTART:20191103T060000
END:STANDARD
END:VTIMEZONE
BEGIN:VEVENT
DTSTART;VALUE=DATE:20190120
DTEND;VALUE=DATE:20190127
DTSTAMP:20260421T223112
CREATED:20181214T205541Z
LAST-MODIFIED:20181214T211036Z
UID:3229-1547942400-1548547199@www.readyai.org
SUMMARY:WAICY 2019 Regional - Chengdu\, China
DESCRIPTION:A week AI winter camp with a final competition on the last day of the camp. The winning teams will enter the WAICY 2019 Final Competition. \n活动流程：\n第一天： \n\n报道\n签到\n晚上：开营仪式\n\n第二天： \n\n上午：计算思维，AI\, VR基本知识讲解\n下午：初识 Cozmo\, Cozmo App 和 Calypso 操作软件\n晚上：观看 AI机器人专题影片，小组讨论：未来人类和机器人的关系\n\n第三天： \n\n上午：介绍同理心思维，换位思考在设计、团队合作中的重要性\n下午：继续学习 Cozmo 相关软件操作，项目挑战\n晚上：观看影片和桌游禁闭岛挑战，培养团队合作意识\n\n第四天： \n\n上午：学习顺序和循环的编程知识\n下午：Cozmo 任务挑战\n晚上：观看纪录片-家园，了解地球和环境学知识\n\n第五天： \n\n上午：学习条件和事件的编程知识\n下午：重点学习Calypso的条件编程规则和任务挑战\n晚上：观看纪录片-跟着霍金认识宇宙\n\n第六天： \n\n上午：总结复习所学知识点， Cozmo 操作练习\n下午：观看 2018 第一届WAICY参赛队项目展示，启发孩子设计自己团队项目\n晚上： Teamwork 讨论、设计项目\n\n第七天： \n\n教练辅导个队完成项目\n项目展示，答辩环节，及颁奖晚会
URL:https://www.readyai.org/event/waicy-2019-regional-chengdu-china/
LOCATION:Location: TBD
CATEGORIES:WAICY Regional
ATTACH;FMTTYPE=image/jpeg:https://readyaiwww-cdn.wholeren.cn/wp-content/uploads/2018/12/news-5.jpg
ORGANIZER;CN="ReadyAI":MAILTO:Info@readyai.org
END:VEVENT
END:VCALENDAR