BEGIN:VCALENDAR
VERSION:2.0
PRODID:-//ReadyAI - ECPv6.0.10//NONSGML v1.0//EN
CALSCALE:GREGORIAN
METHOD:PUBLISH
X-WR-CALNAME:ReadyAI
X-ORIGINAL-URL:https://www.readyai.org
X-WR-CALDESC:Events for ReadyAI
REFRESH-INTERVAL;VALUE=DURATION:PT1H
X-Robots-Tag:noindex
X-PUBLISHED-TTL:PT1H
BEGIN:VTIMEZONE
TZID:America/New_York
BEGIN:DAYLIGHT
TZOFFSETFROM:-0500
TZOFFSETTO:-0400
TZNAME:EDT
DTSTART:20180311T070000
END:DAYLIGHT
BEGIN:STANDARD
TZOFFSETFROM:-0400
TZOFFSETTO:-0500
TZNAME:EST
DTSTART:20181104T060000
END:STANDARD
END:VTIMEZONE
BEGIN:VEVENT
DTSTART;TZID=America/New_York:20181216T140000
DTEND;TZID=America/New_York:20181216T170000
DTSTAMP:20260419T133135
CREATED:20181214T144330Z
LAST-MODIFIED:20181214T144330Z
UID:3180-1544968800-1544979600@www.readyai.org
SUMMARY:Teacher Training at Attawheed Islamic Center
DESCRIPTION:
URL:https://www.readyai.org/event/teacher-training-at-attawheed-islamic-center/
LOCATION:Attawheed Islamic Center\, ﻿401 Washington Ave\, Carnegie\, PA\, 15106\, United States
CATEGORIES:Teacher Training
ATTACH;FMTTYPE=image/jpeg:https://readyaiwww-cdn.wholeren.cn/wp-content/uploads/2018/12/267124622.jpg
ORGANIZER;CN="ReadyAI":MAILTO:Info@readyai.org
END:VEVENT
END:VCALENDAR