BEGIN:VCALENDAR
VERSION:2.0
PRODID:-//ReadyAI - ECPv6.0.10//NONSGML v1.0//EN
CALSCALE:GREGORIAN
METHOD:PUBLISH
X-ORIGINAL-URL:https://www.readyai.org
X-WR-CALDESC:Events for ReadyAI
REFRESH-INTERVAL;VALUE=DURATION:PT1H
X-Robots-Tag:noindex
X-PUBLISHED-TTL:PT1H
BEGIN:VTIMEZONE
TZID:America/New_York
BEGIN:DAYLIGHT
TZOFFSETFROM:-0500
TZOFFSETTO:-0400
TZNAME:EDT
DTSTART:20180311T070000
END:DAYLIGHT
BEGIN:STANDARD
TZOFFSETFROM:-0400
TZOFFSETTO:-0500
TZNAME:EST
DTSTART:20181104T060000
END:STANDARD
END:VTIMEZONE
BEGIN:VEVENT
DTSTART;TZID=America/New_York:20181215T130000
DTEND;TZID=America/New_York:20181215T160000
DTSTAMP:20260419T115127
CREATED:20181030T213005Z
LAST-MODIFIED:20181030T213839Z
UID:2321-1544878800-1544889600@www.readyai.org
SUMMARY:Teaching Info Session
DESCRIPTION:ReadyAI provides monthly teacher training for anyone who wants to learn about teaching AI. \nYou will get the opportunity to: \n\nLearn how to teach Artificial Intelligence to K-12 students\nExplore Career Development/Advancement and Employment Opportunities\nBe part of the AI Learning Community\n\nNo previous teaching / STEM experience required. \nWe welcome all teachers\, parents\, college students\, and AI enthusiasts to join. \nIf you are interested\, please sign up here: \nSign Up\n  \nWhat to Bring\nPlease bring a laptop if you have one. \nAddress\nOur address is 3434 Forbes Ave\, 2nd Floor\, Pittsburgh\, PA 15213.\nOur office is directly above the CVS. The entrance is right next to the CVS as well. And we will be greeting you downstairs from 10:30 to 11 am. \nParking\nPlease note that the CVS parking lot is for its customer only. There is street parking around the block. The nearest parking lot is two blocks down Forbes Ave (210 Meyran Ave\, Pittsburgh\, PA 15213). \nQuestions\nPlease contact us via email(Info@ReadyAI.org) or phone call(+1 412-567-0588) if you have any questions.
URL:https://www.readyai.org/event/readyai-teaching-info-session/
LOCATION:ReadyAI\, 5777 Baum Blvd\, Pittsburgh\, PA\, 15206\, United States
CATEGORIES:Teacher Training
ATTACH;FMTTYPE=image/jpeg:https://readyaiwww-cdn.wholeren.cn/wp-content/uploads/2018/10/44032187_913208988863237_6288061519842246656_o.jpg
ORGANIZER;CN="ReadyAI":MAILTO:Info@readyai.org
END:VEVENT
BEGIN:VEVENT
DTSTART;TZID=America/New_York:20181216T140000
DTEND;TZID=America/New_York:20181216T170000
DTSTAMP:20260419T115127
CREATED:20181214T144330Z
LAST-MODIFIED:20181214T144330Z
UID:3180-1544968800-1544979600@www.readyai.org
SUMMARY:Teacher Training at Attawheed Islamic Center
DESCRIPTION:
URL:https://www.readyai.org/event/teacher-training-at-attawheed-islamic-center/
LOCATION:Attawheed Islamic Center\, ﻿401 Washington Ave\, Carnegie\, PA\, 15106\, United States
CATEGORIES:Teacher Training
ATTACH;FMTTYPE=image/jpeg:https://readyaiwww-cdn.wholeren.cn/wp-content/uploads/2018/12/267124622.jpg
ORGANIZER;CN="ReadyAI":MAILTO:Info@readyai.org
END:VEVENT
BEGIN:VEVENT
DTSTART;TZID=America/New_York:20181220T113000
DTEND;TZID=America/New_York:20181220T150000
DTSTAMP:20260419T115127
CREATED:20181213T142727Z
LAST-MODIFIED:20181213T142830Z
UID:3082-1545305400-1545318000@www.readyai.org
SUMMARY:Teacher Training Session at  Mt. Lebanon
DESCRIPTION:
URL:https://www.readyai.org/event/teacher-training-session-at-mt-lebanon/
LOCATION:MT. LEBANON SCHOOL DISTRICT\, 7 Horsman Drive\, Pittsburgh\, PA\, 15228\, United States
CATEGORIES:Teacher Training
ATTACH;FMTTYPE=image/jpeg:https://readyaiwww-cdn.wholeren.cn/wp-content/uploads/2018/12/MTLHSsm.jpg
ORGANIZER;CN="ReadyAI":MAILTO:Info@readyai.org
END:VEVENT
END:VCALENDAR